BEGIN:VCALENDAR
VERSION:2.0
PRODID:-//RKMS Academy - ECPv6.15.13//NONSGML v1.0//EN
CALSCALE:GREGORIAN
METHOD:PUBLISH
X-ORIGINAL-URL:https://rkmsacademy.co.uk
X-WR-CALDESC:Events for RKMS Academy
REFRESH-INTERVAL;VALUE=DURATION:PT1H
X-Robots-Tag:noindex
X-PUBLISHED-TTL:PT1H
BEGIN:VTIMEZONE
TZID:Europe/London
BEGIN:DAYLIGHT
TZOFFSETFROM:+0000
TZOFFSETTO:+0100
TZNAME:BST
DTSTART:20240331T010000
END:DAYLIGHT
BEGIN:STANDARD
TZOFFSETFROM:+0100
TZOFFSETTO:+0000
TZNAME:GMT
DTSTART:20241027T010000
END:STANDARD
BEGIN:DAYLIGHT
TZOFFSETFROM:+0000
TZOFFSETTO:+0100
TZNAME:BST
DTSTART:20250330T010000
END:DAYLIGHT
BEGIN:STANDARD
TZOFFSETFROM:+0100
TZOFFSETTO:+0000
TZNAME:GMT
DTSTART:20251026T010000
END:STANDARD
BEGIN:DAYLIGHT
TZOFFSETFROM:+0000
TZOFFSETTO:+0100
TZNAME:BST
DTSTART:20260329T010000
END:DAYLIGHT
BEGIN:STANDARD
TZOFFSETFROM:+0100
TZOFFSETTO:+0000
TZNAME:GMT
DTSTART:20261025T010000
END:STANDARD
END:VTIMEZONE
BEGIN:VEVENT
DTSTART;TZID=Europe/London:20251110T090000
DTEND;TZID=Europe/London:20251114T170000
DTSTAMP:20260420T011807
CREATED:20241218T102322Z
LAST-MODIFIED:20241218T102401Z
UID:10000017-1762765200-1763139600@rkmsacademy.co.uk
SUMMARY:CQI and IRCA Lead Auditor Training Course ISO 9001 - Quality Management Systems (QMS)
DESCRIPTION:Learn More
URL:https://rkmsacademy.co.uk/event/cqi-and-irca-lead-auditor-training-course-iso-9001-quality-management-systems-qms-5/
LOCATION:RKMS Group\, Unit 4\, The Pavilions\, Avroe Crescent\, Blackpool\, Lancashire\, FY4 2DP\, United Kingdom
ATTACH;FMTTYPE=image/jpeg:https://rkmsacademy.co.uk/wp-content/uploads/2024/10/IRCA-Certified-Course.jpg
END:VEVENT
END:VCALENDAR